BEGIN:VCALENDAR
VERSION:2.0
PRODID:-//hacksw/handcal//NONSGML v1.0//EN
BEGIN:VEVENT
DTSTART:20260421T180000
DTEND:20260421T200000
LOCATION:présentiel au siège d’IESF, 7 rue Lamennais Paris 8ème
ORGANIZER;CN=Claire Chapurlat:MAILTO:cchapurlat@esaip.org
SUMMARY:Conférence IESF : L'intelligence collective à la puissance de l'IA pour fluidifier l'évolution des organisations
DESCRIPTION:Conférence IESF :L'intelligence collective à la puissance de l'IA pour fluidifier l'évolution des organisations\nPour cette 58ième conférence Christophe Dubois-Damien, Président du Comité Economie...
URL:https://network.esaip.org/fr/event/conference-iesf-l-intelligence-collective-a-la-puissance-de-l-ia-pour-fluidifier-l-evolution-des-organisations/2026/04/21/787
BEGIN:VALARM
TRIGGER:-P0DT1H0M0S
ACTION:DISPLAY
END:VALARM
END:VEVENT
END:VCALENDAR