BEGIN:VCALENDAR
VERSION:2.0
PRODID:-//hacksw/handcal//NONSGML v1.0//EN
BEGIN:VEVENT
DTSTART:20260422T180000
DTEND:20260422T200000
LOCATION:en présentiel au siège d’IESF - 7 rue Lamennais Paris 8éme.
ORGANIZER;CN=Claire Chapurlat:MAILTO:cchapurlat@esaip.org
SUMMARY:Conférence IESF (gratuite) : Comment le numérique change nos entreprises, notre civilisation, nos valeurs
DESCRIPTION:Pour cette 57ième conférence Christophe Dubois-Damien, Président du Comité Economie d’IESF, nous propose de réfléchir autour du livre du regretté Michel Volle, « Valeurs et Civilisations ». Ainsi 7...
URL:https://network.esaip.org/fr/event/conference-iesf-gratuite-comment-le-numerique-change-nos-entreprises-notre-civilisation-nos-valeurs/2026/04/22/786
BEGIN:VALARM
TRIGGER:-P0DT1H0M0S
ACTION:DISPLAY
END:VALARM
END:VEVENT
END:VCALENDAR