BEGIN:VCALENDAR
VERSION:2.0
PRODID:-//hacksw/handcal//NONSGML v1.0//EN
BEGIN:VEVENT
DTSTART:20260429T133000
DTEND:20260429T170000
LOCATION:Manufacture (10 rue des Allumettes, à Aix-en-Provence).
ORGANIZER;CN=Claire Chapurlat:MAILTO:cchapurlat@esaip.org
SUMMARY:Forum de l’Alternance de l’Enseignement Supérieur 2026
DESCRIPTION:Forum de l’Alternance de l’Enseignement Supérieur 2026 La Ville d’Aix-en-Provence, par le biais de la direction Jeunesse et Vie Étudiante, organise la 5e édition du Forum de l’Alternance de...
URL:https://network.esaip.org/fr/event/forum-de-l-alternance-de-l-enseignement-superieur-2026/2026/04/29/784
BEGIN:VALARM
TRIGGER:-P0DT1H0M0S
ACTION:DISPLAY
END:VALARM
END:VEVENT
END:VCALENDAR