BEGIN:VCALENDAR
VERSION:2.0
PRODID:-//hacksw/handcal//NONSGML v1.0//EN
BEGIN:VEVENT
DTSTART:20260423T090000
DTEND:20260423T170000
LOCATION:Palais des sports de Toulon
ORGANIZER;CN=Claire Chapurlat:MAILTO:cchapurlat@esaip.org
SUMMARY:Toulon Defense Event
DESCRIPTION:Plongez au cœur des métiers de la Défense, rendez-vous le 23 avril 2026 pour le Toulon Defense Event !\nLe jeudi 23 avril se tiendra le Toulon Defense Event, un événement d’ampleur au sujet des...
URL:https://network.esaip.org/fr/event/toulon-defense-event/2026/04/23/774
BEGIN:VALARM
TRIGGER:-P0DT1H0M0S
ACTION:DISPLAY
END:VALARM
END:VEVENT
END:VCALENDAR